BEGIN:VCALENDAR
VERSION:2.0
PRODID:-//CiviCRM//NONSGML CiviEvent iCal//EN
X-WR-TIMEZONE:America/New_York
METHOD:PUBLISH
BEGIN:VTIMEZONE
TZID:America/New_York
BEGIN:DAYLIGHT
TZOFFSETFROM:-0400
TZOFFSETTO:-0400
TZNAME:EDT
DTSTART:20260506T090000
END:DAYLIGHT
END:VTIMEZONE
BEGIN:VEVENT
UID:CiviCRM_EventID_398_43a9aa883e837e542859b806365b6d02@www.dirahbrooklyn.org
SUMMARY:The Schmooze Women's Discussion Group
X-ALT-DESC;FMTTYPE=text/html:<!DOCTYPE HTML PUBLIC
  "-//W3C//DTD HTML 3.2//EN"><html><body><h2 style=
 "text-align:center\;">The Schmooze: discussion gro
 up</h2>\n \n <p style="text-align:center\;"><b>Joi
 n women on Wednesdays for a morning of elevated co
 nversation and authentic connections. </b></p>\n \
 n <p style="text-align:center\;">Each week we gath
 er for a discussion to share\, listen and lean in 
 to Jewish values that resonate for our moment.</p>
 \n \n <p style="text-align:center\;">Over coffee a
 nd light bites\, we connect with each other and ex
 plore wisdom that speaks to our modern world to he
 lp us navigate our lives with meaning.</p></body><
 /html>
DESCRIPTION:The Schmooze: discussion group\n \n \n Join women 
 on Wednesdays for a morning of elevated conversati
 on and authentic connections. \n \n \n \n Each wee
 k we gather for a discussion to share\, listen and
  lean in to Jewish values that resonate for our mo
 ment.\n \n \n \n Over coffee and light bites\, we 
 connect with each other and explore wisdom that sp
 eaks to our modern world to help us navigate our l
 ives with meaning.\n \n 
CATEGORIES:Class
CALSCALE:GREGORIAN
DTSTAMP;TZID=America/New_York:20260506T090000
DTSTART;TZID=America/New_York:20260506T090000
DTEND;TZID=America/New_York:20260506T090000
LOCATION:Dirah 480 Smith St. #2\,\n Brooklyn\, NY 11231\n U
 nited States\n 
URL:https://www.dirahbrooklyn.org/civicrm/event/info?reset=1&id=398
END:VEVENT
END:VCALENDAR
